BEGIN:VCALENDAR
VERSION:2.0
PRODID:-//FNDIRP - ADIRP74 - ECPv6.15.20//NONSGML v1.0//EN
CALSCALE:GREGORIAN
METHOD:PUBLISH
X-WR-CALNAME:FNDIRP - ADIRP74
X-ORIGINAL-URL:https://www.fndirp74.org
X-WR-CALDESC:Évènements pour FNDIRP - ADIRP74
REFRESH-INTERVAL;VALUE=DURATION:PT1H
X-Robots-Tag:noindex
X-PUBLISHED-TTL:PT1H
BEGIN:VTIMEZONE
TZID:Europe/Paris
BEGIN:DAYLIGHT
TZOFFSETFROM:+0100
TZOFFSETTO:+0200
TZNAME:CEST
DTSTART:20250330T010000
END:DAYLIGHT
BEGIN:STANDARD
TZOFFSETFROM:+0200
TZOFFSETTO:+0100
TZNAME:CET
DTSTART:20251026T010000
END:STANDARD
BEGIN:DAYLIGHT
TZOFFSETFROM:+0100
TZOFFSETTO:+0200
TZNAME:CEST
DTSTART:20260329T010000
END:DAYLIGHT
BEGIN:STANDARD
TZOFFSETFROM:+0200
TZOFFSETTO:+0100
TZNAME:CET
DTSTART:20261025T010000
END:STANDARD
BEGIN:DAYLIGHT
TZOFFSETFROM:+0100
TZOFFSETTO:+0200
TZNAME:CEST
DTSTART:20270328T010000
END:DAYLIGHT
BEGIN:STANDARD
TZOFFSETFROM:+0200
TZOFFSETTO:+0100
TZNAME:CET
DTSTART:20271031T010000
END:STANDARD
END:VTIMEZONE
BEGIN:VEVENT
DTSTART;TZID=Europe/Paris:20260508T150000
DTEND;TZID=Europe/Paris:20260508T160000
DTSTAMP:20260421T145053
CREATED:20260416T121127Z
LAST-MODIFIED:20260416T121407Z
UID:32234-1778252400-1778256000@www.fndirp74.org
SUMMARY:Représentation Autour du journal d'Anne Frank à Allinges le 08 mai 2026
DESCRIPTION:La représentation « Autour du Journal d’Anne Frank » aura lieu à Allinges les 26/04 et 08/05 à 15 :00 . \nCe projet a été conçu en partenariat avec la section FNDIRP des Allobroges\, l’école de danse Valentin’s Company et la commune d’Allinges. \nLe spectacle est gratuit.
URL:https://www.fndirp74.org/calendrier/representation-autour-du-journal-danne-frank-a-allinges-le-08-mai-2026/
END:VEVENT
END:VCALENDAR