BEGIN:VCALENDAR
VERSION:2.0
PRODID:-//FNDIRP - ADIRP74 - ECPv6.15.20//NONSGML v1.0//EN
CALSCALE:GREGORIAN
METHOD:PUBLISH
X-ORIGINAL-URL:https://www.fndirp74.org
X-WR-CALDESC:Évènements pour FNDIRP - ADIRP74
REFRESH-INTERVAL;VALUE=DURATION:PT1H
X-Robots-Tag:noindex
X-PUBLISHED-TTL:PT1H
BEGIN:VTIMEZONE
TZID:Europe/Paris
BEGIN:DAYLIGHT
TZOFFSETFROM:+0100
TZOFFSETTO:+0200
TZNAME:CEST
DTSTART:20230326T010000
END:DAYLIGHT
BEGIN:STANDARD
TZOFFSETFROM:+0200
TZOFFSETTO:+0100
TZNAME:CET
DTSTART:20231029T010000
END:STANDARD
BEGIN:DAYLIGHT
TZOFFSETFROM:+0100
TZOFFSETTO:+0200
TZNAME:CEST
DTSTART:20240331T010000
END:DAYLIGHT
BEGIN:STANDARD
TZOFFSETFROM:+0200
TZOFFSETTO:+0100
TZNAME:CET
DTSTART:20241027T010000
END:STANDARD
BEGIN:DAYLIGHT
TZOFFSETFROM:+0100
TZOFFSETTO:+0200
TZNAME:CEST
DTSTART:20250330T010000
END:DAYLIGHT
BEGIN:STANDARD
TZOFFSETFROM:+0200
TZOFFSETTO:+0100
TZNAME:CET
DTSTART:20251026T010000
END:STANDARD
BEGIN:DAYLIGHT
TZOFFSETFROM:+0100
TZOFFSETTO:+0200
TZNAME:CEST
DTSTART:20260329T010000
END:DAYLIGHT
BEGIN:STANDARD
TZOFFSETFROM:+0200
TZOFFSETTO:+0100
TZNAME:CET
DTSTART:20261025T010000
END:STANDARD
END:VTIMEZONE
BEGIN:VEVENT
DTSTART;VALUE=DATE:20241103
DTEND;VALUE=DATE:20260101
DTSTAMP:20260422T120050
CREATED:20241103T103804Z
LAST-MODIFIED:20241103T103804Z
UID:30802-1730592000-1767225599@www.fndirp74.org
SUMMARY:L’exposition “Vivre avec ou sans la République - La Haute-Savoie 1940-1947” jusqu’à fin 2025
DESCRIPTION:L’exposition “Vivre avec ou sans la République – La Haute-Savoie 1940-1947” a ouvert ses portes aux Archives départementales.\nUn retour en arrière inédit au temps de la Seconde Guerre mondiale en Haute-Savoie.\nOrientée tout particulièrement sur l’après Libération\, l’exposition met en lumière les efforts fournis par le département pour se reconstruire.
URL:https://www.fndirp74.org/calendrier/lexposition-vivre-avec-ou-sans-la-republique-la-haute-savoie-1940-1947-jusqua-fin-2025/
END:VEVENT
BEGIN:VEVENT
DTSTART;VALUE=DATE:20250618
DTEND;VALUE=DATE:20250619
DTSTAMP:20260422T120050
CREATED:20250621T125712Z
LAST-MODIFIED:20250621T125712Z
UID:31435-1750204800-1750291199@www.fndirp74.org
SUMMARY:Cérémonie commémorative – 85ᵉ anniversaire de l’Appel du 18 juin 1940
DESCRIPTION:À l’occasion du 85ᵉ anniversaire de l’appel historique du Général de Gaulle\, des cérémonies commémoratives auront lieu : \n• Évian : à 10h00\, au monument aux morts\n• Thonon : à 18h00\, au square Bir Hakeim\n• Sciez : à 19h00\, au port \nNous vous invitons à venir rendre hommage à cet acte fondateur de la Résistance.
URL:https://www.fndirp74.org/calendrier/ceremonie-commemorative-85%e1%b5%89-anniversaire-de-lappel-du-18-juin-1940/
END:VEVENT
BEGIN:VEVENT
DTSTART;TZID=Europe/Paris:20250618T100000
DTEND;TZID=Europe/Paris:20250618T120000
DTSTAMP:20260422T120050
CREATED:20250607T124606Z
LAST-MODIFIED:20250607T204206Z
UID:31393-1750240800-1750248000@www.fndirp74.org
SUMMARY:Cérémonie Commémorative- 85ème anniversaire de l'appel du 18 juin 1940
DESCRIPTION:La cérémonie du 85ème anniversaire de l’appel du général de Gaulle le 18 juin 1940 au plateau des Glières aura lieu à 10 heures.\n\n \nNous sommes également invités à Thonon \nThonon-Cérémonie_18.06.2025\nAinsi qu’à Sciez \ncérémonie 18 juin SCIEZ
URL:https://www.fndirp74.org/calendrier/ceremonie-commemorative-85eme-anniversaire-de-lappel-du-18-juin-1940/
END:VEVENT
END:VCALENDAR