BEGIN:VCALENDAR
VERSION:2.0
PRODID:-//FNDIRP - ADIRP74 - ECPv6.15.20//NONSGML v1.0//EN
CALSCALE:GREGORIAN
METHOD:PUBLISH
X-WR-CALNAME:FNDIRP - ADIRP74
X-ORIGINAL-URL:https://www.fndirp74.org
X-WR-CALDESC:Évènements pour FNDIRP - ADIRP74
REFRESH-INTERVAL;VALUE=DURATION:PT1H
X-Robots-Tag:noindex
X-PUBLISHED-TTL:PT1H
BEGIN:VTIMEZONE
TZID:Europe/Paris
BEGIN:DAYLIGHT
TZOFFSETFROM:+0100
TZOFFSETTO:+0200
TZNAME:CEST
DTSTART:20230326T010000
END:DAYLIGHT
BEGIN:STANDARD
TZOFFSETFROM:+0200
TZOFFSETTO:+0100
TZNAME:CET
DTSTART:20231029T010000
END:STANDARD
BEGIN:DAYLIGHT
TZOFFSETFROM:+0100
TZOFFSETTO:+0200
TZNAME:CEST
DTSTART:20240331T010000
END:DAYLIGHT
BEGIN:STANDARD
TZOFFSETFROM:+0200
TZOFFSETTO:+0100
TZNAME:CET
DTSTART:20241027T010000
END:STANDARD
BEGIN:DAYLIGHT
TZOFFSETFROM:+0100
TZOFFSETTO:+0200
TZNAME:CEST
DTSTART:20250330T010000
END:DAYLIGHT
BEGIN:STANDARD
TZOFFSETFROM:+0200
TZOFFSETTO:+0100
TZNAME:CET
DTSTART:20251026T010000
END:STANDARD
BEGIN:DAYLIGHT
TZOFFSETFROM:+0100
TZOFFSETTO:+0200
TZNAME:CEST
DTSTART:20260329T010000
END:DAYLIGHT
BEGIN:STANDARD
TZOFFSETFROM:+0200
TZOFFSETTO:+0100
TZNAME:CET
DTSTART:20261025T010000
END:STANDARD
END:VTIMEZONE
BEGIN:VEVENT
DTSTART;VALUE=DATE:20241103
DTEND;VALUE=DATE:20260101
DTSTAMP:20260422T133334
CREATED:20241103T103804Z
LAST-MODIFIED:20241103T103804Z
UID:30802-1730592000-1767225599@www.fndirp74.org
SUMMARY:L’exposition “Vivre avec ou sans la République - La Haute-Savoie 1940-1947” jusqu’à fin 2025
DESCRIPTION:L’exposition “Vivre avec ou sans la République – La Haute-Savoie 1940-1947” a ouvert ses portes aux Archives départementales.\nUn retour en arrière inédit au temps de la Seconde Guerre mondiale en Haute-Savoie.\nOrientée tout particulièrement sur l’après Libération\, l’exposition met en lumière les efforts fournis par le département pour se reconstruire.
URL:https://www.fndirp74.org/calendrier/lexposition-vivre-avec-ou-sans-la-republique-la-haute-savoie-1940-1947-jusqua-fin-2025/
END:VEVENT
BEGIN:VEVENT
DTSTART;VALUE=DATE:20250424
DTEND;VALUE=DATE:20250508
DTSTAMP:20260422T133334
CREATED:20250420T122652Z
LAST-MODIFIED:20250420T122740Z
UID:31195-1745452800-1746662399@www.fndirp74.org
SUMMARY:Exposition « Lieux de Mémoire » à la mairie d’Annemasse
DESCRIPTION:La FNDIRP Annemasse expose 12 panneaux  » Lieux de Mémoire « \, dans le hall de la Mairie d’Annemasse\, du 24 avril au 7 mai\, consultables aux horaires d’ouverture de la Mairie.
URL:https://www.fndirp74.org/calendrier/exposition-lieux-de-memoire-a-la-mairie-dannemasse/
END:VEVENT
BEGIN:VEVENT
DTSTART;VALUE=DATE:20250508
DTEND;VALUE=DATE:20250509
DTSTAMP:20260422T133334
CREATED:20250508T065929Z
LAST-MODIFIED:20250508T070301Z
UID:31287-1746662400-1746748799@www.fndirp74.org
SUMMARY:Commémoration de l’Armistice du 8 mai 1945 - Programme par Section
DESCRIPTION:De nombreuses municipalités de notre département commémorent le 80e anniversaire du 8 mai 1945\, fin de la Seconde Guerre mondiale. \nVoici les invitations reçues personnellement par nos sections : \nSection d’Annemasse \nMunicipalité de Saint-Cergues : la cérémonie se tiendra au Monument aux Morts\, parvis de l’église\, à 11 h 30. \nLors de cette commémoration\, la FNDIRP présentera son exposition Lieux de Mémoire. \nSt-Cergues-cérémonie_8_mai_2025 \nSection d’Annecy – Ville d’Annecy et cérémonie départementale \nComme les années précédentes\, la commémoration se fera en deux temps : tout d’abord dans les différentes mairies déléguées de la ville\, puis à 11 h 00\, place du Souvenir\, aura lieu la cérémonie commémorative départementale\, présidée par Emmanuelle Dubée\, Préfète de la Haute-Savoie. \nSection du Chablais \nCérémonie du 80e anniversaire de la victoire du 8 mai 1945\, à 11 h 00\, place de l’Hôtel de Ville de Thonon. \n8 mai THONON 1-1-1
URL:https://www.fndirp74.org/calendrier/commemoration-de-larmistice-du-8-mai-1945-programme-par-section/
END:VEVENT
BEGIN:VEVENT
DTSTART;VALUE=DATE:20250527
DTEND;VALUE=DATE:20250528
DTSTAMP:20260422T133334
CREATED:20250523T121337Z
LAST-MODIFIED:20250526T133441Z
UID:31346-1748304000-1748390399@www.fndirp74.org
SUMMARY:Cérémonie de la journée nationale de la Résistance 27 mai 2025
DESCRIPTION:La journée de la Résistance fait référence à la première réunion du Conseil national de la Résistance (CNR) qui s’est déroulée le 27 mai 1943.\nLa cérémonie départementale présidée par madame la préfète de la Haute Savoie Emmanuelle Dubée aura lieu place du Souvenir.\nLa cérémonie à Annemasse aura une sonorité particulière car à cette occasion le Square Yvonne et René Naudin sera inauguré.
URL:https://www.fndirp74.org/calendrier/ceremonie-de-la-journee-nationale-de-la-resistance-27-mai-2025/
END:VEVENT
END:VCALENDAR