BEGIN:VCALENDAR
VERSION:2.0
PRODID:-//FNDIRP - ADIRP74 - ECPv6.15.20//NONSGML v1.0//EN
CALSCALE:GREGORIAN
METHOD:PUBLISH
X-ORIGINAL-URL:https://www.fndirp74.org
X-WR-CALDESC:Évènements pour FNDIRP - ADIRP74
REFRESH-INTERVAL;VALUE=DURATION:PT1H
X-Robots-Tag:noindex
X-PUBLISHED-TTL:PT1H
BEGIN:VTIMEZONE
TZID:Europe/Paris
BEGIN:DAYLIGHT
TZOFFSETFROM:+0100
TZOFFSETTO:+0200
TZNAME:CEST
DTSTART:20230326T010000
END:DAYLIGHT
BEGIN:STANDARD
TZOFFSETFROM:+0200
TZOFFSETTO:+0100
TZNAME:CET
DTSTART:20231029T010000
END:STANDARD
BEGIN:DAYLIGHT
TZOFFSETFROM:+0100
TZOFFSETTO:+0200
TZNAME:CEST
DTSTART:20240331T010000
END:DAYLIGHT
BEGIN:STANDARD
TZOFFSETFROM:+0200
TZOFFSETTO:+0100
TZNAME:CET
DTSTART:20241027T010000
END:STANDARD
BEGIN:DAYLIGHT
TZOFFSETFROM:+0100
TZOFFSETTO:+0200
TZNAME:CEST
DTSTART:20250330T010000
END:DAYLIGHT
BEGIN:STANDARD
TZOFFSETFROM:+0200
TZOFFSETTO:+0100
TZNAME:CET
DTSTART:20251026T010000
END:STANDARD
BEGIN:DAYLIGHT
TZOFFSETFROM:+0100
TZOFFSETTO:+0200
TZNAME:CEST
DTSTART:20260329T010000
END:DAYLIGHT
BEGIN:STANDARD
TZOFFSETFROM:+0200
TZOFFSETTO:+0100
TZNAME:CET
DTSTART:20261025T010000
END:STANDARD
END:VTIMEZONE
BEGIN:VEVENT
DTSTART;VALUE=DATE:20241103
DTEND;VALUE=DATE:20260101
DTSTAMP:20260422T175616
CREATED:20241103T103804Z
LAST-MODIFIED:20241103T103804Z
UID:30802-1730592000-1767225599@www.fndirp74.org
SUMMARY:L’exposition “Vivre avec ou sans la République - La Haute-Savoie 1940-1947” jusqu’à fin 2025
DESCRIPTION:L’exposition “Vivre avec ou sans la République – La Haute-Savoie 1940-1947” a ouvert ses portes aux Archives départementales.\nUn retour en arrière inédit au temps de la Seconde Guerre mondiale en Haute-Savoie.\nOrientée tout particulièrement sur l’après Libération\, l’exposition met en lumière les efforts fournis par le département pour se reconstruire.
URL:https://www.fndirp74.org/calendrier/lexposition-vivre-avec-ou-sans-la-republique-la-haute-savoie-1940-1947-jusqua-fin-2025/
END:VEVENT
BEGIN:VEVENT
DTSTART;VALUE=DATE:20250302
DTEND;VALUE=DATE:20250304
DTSTAMP:20260422T175616
CREATED:20250209T212823Z
LAST-MODIFIED:20250209T213145Z
UID:31013-1740873600-1741046399@www.fndirp74.org
SUMMARY:Section Chablais : Chablais - Voyage mémoriel au camp du Struthof les 2 et 3 mai 2025
DESCRIPTION:FNDIRP Chablais – Voyage mémoriel au camp du Struthof à l’occasion du 80ᵉ anniversaire de la libération des camps de concentration \nLes 2 et 3 mai\, nous organisons un voyage au camp du Struthof. La mairie est partenaire de l’événement\, et Monsieur le Maire ainsi que plusieurs membres du Conseil municipal seront présents à nos côtés. La commune de Thonon prend en charge le transport\, ce qui permet de proposer un tarif très avantageux. \nLe montant de l’inscription est de 190 € par personne\, tout compris : transport\, repas\, boissons et nuitée (non remboursable). Un supplément de 29 € est demandé pour une chambre individuelle. \nLes inscriptions se clôturent le 20 février 2025. \nPour tout renseignement\, contactez André SERVOZ au 06 84 36 16 12 ou par e-mail : andre.servoz@wanadoo.fr
URL:https://www.fndirp74.org/calendrier/section-chablais-chablais-voyage-memoriel-au-camp-du-struthof-les-2-et-3-mai-2025/
END:VEVENT
BEGIN:VEVENT
DTSTART;TZID=Europe/Paris:20250327T180000
DTEND;TZID=Europe/Paris:20250327T210000
DTSTAMP:20260422T175616
CREATED:20250204T182407Z
LAST-MODIFIED:20250204T182445Z
UID:30994-1743098400-1743109200@www.fndirp74.org
SUMMARY:Annecy : Conférence d'Annette WIEVIORKA sur le retour des déportés – 27 mars 2025
DESCRIPTION:À l’occasion du 80ᵉ anniversaire de la libération des camps nazis\, la section d’Annecy de la FNDIRP a le plaisir de vous inviter à une conférence-débat animée par Annette WIEVIORKA\, historienne et directrice émérite du CNRS. \n📅 Jeudi 27 mars 2025 à 18 heures\n📍 Salle des Glières\, auditorium du Conseil Départemental\n📌 1 rue du 30ᵉ Régiment d’Infanterie\, ANNECY\n🎟 Entrée libre \nJocelyne Martinet \nAFFICHE CONFERENCE 27 mars 2025 Annette Wievorka
URL:https://www.fndirp74.org/calendrier/annecy-conference-dannette-wieviorka-sur-le-retour-des-deportes-27-mars-2025/
END:VEVENT
END:VCALENDAR