BEGIN:VCALENDAR
VERSION:2.0
PRODID:-//FNDIRP - ADIRP74 - ECPv6.15.20//NONSGML v1.0//EN
CALSCALE:GREGORIAN
METHOD:PUBLISH
X-ORIGINAL-URL:https://www.fndirp74.org
X-WR-CALDESC:Évènements pour FNDIRP - ADIRP74
REFRESH-INTERVAL;VALUE=DURATION:PT1H
X-Robots-Tag:noindex
X-PUBLISHED-TTL:PT1H
BEGIN:VTIMEZONE
TZID:Europe/Paris
BEGIN:DAYLIGHT
TZOFFSETFROM:+0100
TZOFFSETTO:+0200
TZNAME:CEST
DTSTART:20230326T010000
END:DAYLIGHT
BEGIN:STANDARD
TZOFFSETFROM:+0200
TZOFFSETTO:+0100
TZNAME:CET
DTSTART:20231029T010000
END:STANDARD
BEGIN:DAYLIGHT
TZOFFSETFROM:+0100
TZOFFSETTO:+0200
TZNAME:CEST
DTSTART:20240331T010000
END:DAYLIGHT
BEGIN:STANDARD
TZOFFSETFROM:+0200
TZOFFSETTO:+0100
TZNAME:CET
DTSTART:20241027T010000
END:STANDARD
BEGIN:DAYLIGHT
TZOFFSETFROM:+0100
TZOFFSETTO:+0200
TZNAME:CEST
DTSTART:20250330T010000
END:DAYLIGHT
BEGIN:STANDARD
TZOFFSETFROM:+0200
TZOFFSETTO:+0100
TZNAME:CET
DTSTART:20251026T010000
END:STANDARD
END:VTIMEZONE
BEGIN:VEVENT
DTSTART;VALUE=DATE:20240508
DTEND;VALUE=DATE:20240509
DTSTAMP:20260425T184704
CREATED:20240502T132520Z
LAST-MODIFIED:20240503T072837Z
UID:30091-1715126400-1715212799@www.fndirp74.org
SUMMARY:79ème anniversaire de la victoire des Alliés sur l'Allemagne nazie et la fin de la Seconde Guerre mondiale en Europe
DESCRIPTION:Journée de commémoration de la victoire des Alliés sur l’Allemagne nazie et la fin de la Seconde Guerre mondiale en Europe. Cette journée sera célébrée dans plusieurs communes.  Liste non exhaustive\, renseignez auprès de votre municipalité. \nANNECY\nHeure : 11h00 Cérémonie départementale présidée par M. Yves LE BRETON\, Préfet de la Haute–SavoieLieu : Monument aux combattants – place du Souvenir \n\n\n\n\nANNECY–LE–VIEUX\nHeure : 09h45Rassemblement : Parvis de l’Hôtel de villeHeure : 10h00Cérémonie : Monument aux morts\, Place de l’Hôtel de ville\n\nCRAN–GEVRIERHeure : 09h45Rassemblement : Parvis de l’Hôtel de ville\nHeure : 10h00Cérémonie : Monument aux morts\, Jardin du 08 mai 1945\n\nMEYTHETHeure : 09h00Cérémonie : Monument aux morts\, Square Jean Chamey\n\nPRINGYHeure : 09h00Cérémonie : Monument aux morts\, FerrièresHeure : 10h00Cérémonie : Monument aux morts\, Chef–lieu\, Place Georges Boileau\n\nSEYNODDépôts de gerbesHeure : 08h30 BalmontHeure : 08h45 VieugyHeure : 09h10 Cimetière de SeynodHeure : 09h30Cérémonie : Monument aux morts\, Place de l’Aube\n\nLE LYAUD\nHeure : 18h30\nLieu : Devant le monument aux morts
URL:https://www.fndirp74.org/calendrier/79eme-anniversaire-de-la-victoire-des-allies-sur-lallemagne-nazie-et-la-fin-de-la-seconde-guerre-mondiale-en-europe/
END:VEVENT
BEGIN:VEVENT
DTSTART;VALUE=DATE:20240510
DTEND;VALUE=DATE:20240611
DTSTAMP:20260425T184704
CREATED:20240509T142744Z
LAST-MODIFIED:20240606T083759Z
UID:30253-1715299200-1718063999@www.fndirp74.org
SUMMARY:Exposition FNDIRP à La Roche-sur-Foron
DESCRIPTION:Dans le cadre de la commémoration du 8 Mai 1945\, la ville de La Roche-sur-Foron présentera l’exposition de la FNDIRP dans sa médiathèque. L’exposition prévue jusqu’au 3 juin est prolongée d’une semaine. \nVoir la brochure : affiche expo déportation la Roche
URL:https://www.fndirp74.org/calendrier/exposition-fndirp-a-la-roche-sur-foron/
END:VEVENT
BEGIN:VEVENT
DTSTART;VALUE=DATE:20240523
DTEND;VALUE=DATE:20240527
DTSTAMP:20260425T184704
CREATED:20240516T144102Z
LAST-MODIFIED:20240516T144102Z
UID:30311-1716422400-1716767999@www.fndirp74.org
SUMMARY:CONGRES NATIONAL 2024 DE LA FNDIRP
DESCRIPTION:Cinq membres de notre association départementale y participeront : Jocelyne Martinet\, Michelle Amprino\, Gérard Costantini\, Yves Métral\, Gérald Naudin et André Servoz.
URL:https://www.fndirp74.org/calendrier/congres-national-2024-de-la-fndirp/
END:VEVENT
BEGIN:VEVENT
DTSTART;VALUE=DATE:20240523
DTEND;VALUE=DATE:20240603
DTSTAMP:20260425T184704
CREATED:20240509T142830Z
LAST-MODIFIED:20240516T144755Z
UID:30255-1716422400-1717372799@www.fndirp74.org
SUMMARY:Exposition FNDIRP Lieux de Mémoire à Saint-Jeoire
DESCRIPTION:À la galerie municipale de Saint-Jeoire\, du 23 mai au 2 juin\, l’ANACR en partenariat avec notre association présentera l’exposition de la FNDIRP Lieux de Mémoire.
URL:https://www.fndirp74.org/calendrier/exposition-a-saint-jeoire-du-23-mai-au-2-juin/
END:VEVENT
BEGIN:VEVENT
DTSTART;TZID=Europe/Paris:20240529T141500
DTEND;TZID=Europe/Paris:20240529T173000
DTSTAMP:20260425T184704
CREATED:20240520T114302Z
LAST-MODIFIED:20240520T114545Z
UID:30389-1716992100-1717003800@www.fndirp74.org
SUMMARY:Cérémonie de remise du prix départemental de la résistance et de la déportation
DESCRIPTION:
URL:https://www.fndirp74.org/calendrier/ceremonie-de-remise-du-prix-departemental-de-la-resistance-et-de-la-deportation/
LOCATION:Théâtre des Allobroges\, 14 place des Allobroges\, Cluses\, 74300\, France
END:VEVENT
END:VCALENDAR