BEGIN:VCALENDAR
VERSION:2.0
PRODID:-//FNDIRP - ADIRP74 - ECPv6.15.20//NONSGML v1.0//EN
CALSCALE:GREGORIAN
METHOD:PUBLISH
X-WR-CALNAME:FNDIRP - ADIRP74
X-ORIGINAL-URL:https://www.fndirp74.org
X-WR-CALDESC:Évènements pour FNDIRP - ADIRP74
REFRESH-INTERVAL;VALUE=DURATION:PT1H
X-Robots-Tag:noindex
X-PUBLISHED-TTL:PT1H
BEGIN:VTIMEZONE
TZID:Europe/Paris
BEGIN:DAYLIGHT
TZOFFSETFROM:+0100
TZOFFSETTO:+0200
TZNAME:CEST
DTSTART:20230326T010000
END:DAYLIGHT
BEGIN:STANDARD
TZOFFSETFROM:+0200
TZOFFSETTO:+0100
TZNAME:CET
DTSTART:20231029T010000
END:STANDARD
BEGIN:DAYLIGHT
TZOFFSETFROM:+0100
TZOFFSETTO:+0200
TZNAME:CEST
DTSTART:20240331T010000
END:DAYLIGHT
BEGIN:STANDARD
TZOFFSETFROM:+0200
TZOFFSETTO:+0100
TZNAME:CET
DTSTART:20241027T010000
END:STANDARD
BEGIN:DAYLIGHT
TZOFFSETFROM:+0100
TZOFFSETTO:+0200
TZNAME:CEST
DTSTART:20250330T010000
END:DAYLIGHT
BEGIN:STANDARD
TZOFFSETFROM:+0200
TZOFFSETTO:+0100
TZNAME:CET
DTSTART:20251026T010000
END:STANDARD
END:VTIMEZONE
BEGIN:VEVENT
DTSTART;TZID=Europe/Paris:20240405T143000
DTEND;TZID=Europe/Paris:20240405T170000
DTSTAMP:20260425T201616
CREATED:20240404T135642Z
LAST-MODIFIED:20240404T135642Z
UID:29883-1712327400-1712336400@www.fndirp74.org
SUMMARY:ASSEMBLÉE GÉNÉRALE SECTION FNDIRP ANNECY 2024
DESCRIPTION:L’assemblée générale statutaire de la section FNDIRP d’Annecy se déroulera le vendredi 5 avril 2024 à partir de 14 h 30 à la Maison du Combattant et de la Mémoire de Haute-Savoie. \nAdresse de l’assemblée générale :  \n13 bis Boulevard du Fier\n74000 ANNECY
URL:https://www.fndirp74.org/calendrier/assemblee-generale-section-fndirp-annecy-2024/
END:VEVENT
BEGIN:VEVENT
DTSTART;TZID=Europe/Paris:20240406T093000
DTEND;TZID=Europe/Paris:20240406T120000
DTSTAMP:20260425T201616
CREATED:20240325T134257Z
LAST-MODIFIED:20240325T140623Z
UID:29834-1712395800-1712404800@www.fndirp74.org
SUMMARY:Commémoration pour la tragédie de l’usine du Giffre du 1er avril 1944
DESCRIPTION:Le samedi 6 avril 2024 à 9h30 au lieu-dit « Le Giffre »\, les communes de Marignier et de Saint-Jeoire organisent une commémoration pour la tragédie de l’usine du Giffre du 1er avril 1944. \nDate : Samedi 6 avril 2024\nHeure : 9h30\nLieu : Lieu-dit « Le Giffre » \nAdresse de rassemblement : Devant l’école du Giffre – 3711\, route du Giffre – Marignier \nProgramme : \n\nRassemblement devant l’école du Giffre en commémoration de la tragédie du 1er avril 1944.\nUn vin d’honneur sera servi à l’issue de la cérémonie au boulodrome du Giffre.
URL:https://www.fndirp74.org/calendrier/commemoration-pour-la-tragedie-de-lusine-du-giffre-du-1er-avril-1944/
END:VEVENT
BEGIN:VEVENT
DTSTART;TZID=Europe/Paris:20240413T093000
DTEND;TZID=Europe/Paris:20240413T120000
DTSTAMP:20260425T201616
CREATED:20240404T135225Z
LAST-MODIFIED:20240404T135733Z
UID:29881-1713000600-1713009600@www.fndirp74.org
SUMMARY:ASSEMBLÉE GÉNÉRALE DÉPARTEMENTALE 2024
DESCRIPTION:L’assemblée générale départementale de notre association se déroulera le samedi 13 avril 2024 à 9 h 30 à la Maison du Combattant et de la Mémoire. \nAdresse de l’assemblée générale : \n13 bis Boulevard du Fier\n74000 ANNECY \nParking gratuit – Parking Parc des Sports au 35 bd du Fier Annecy\nBus N° 5 – Direction Piscine (arrêt Rulland) \nNous aurons le plaisir de nous retrouver autour d’un repas en commun au Restaurant Bellevue
URL:https://www.fndirp74.org/calendrier/assemblee-generale-departementale-2024/
END:VEVENT
BEGIN:VEVENT
DTSTART;VALUE=DATE:20240428
DTEND;VALUE=DATE:20240429
DTSTAMP:20260425T201616
CREATED:20240325T134414Z
LAST-MODIFIED:20240412T093448Z
UID:29836-1714262400-1714348799@www.fndirp74.org
SUMMARY:Journée du souvenir des victimes de la déportation
DESCRIPTION:La journée nationale du souvenir des victimes de la déportation\, célébrée chaque année le dernier dimanche d’avril\, est dédiée à l’hommage rendu aux déportés des camps de concentration et d’extermination nazis durant la Seconde Guerre mondiale. Instituée par la loi du 14 avril 1954\, cette journée commémorative vise à honorer la mémoire de tous les déportés\, sans distinction\, et à saluer leur sacrifice. \nLa date du dernier dimanche d’avril a été choisie en raison de sa proximité avec l’anniversaire de la libération de la plupart des camps et pour éviter tout chevauchement avec d’autres célébrations nationales ou religieuses existantes. Son instauration a pour objectif de rappeler à chacun cet événement historique majeur\, ainsi que les enseignements qu’il nous offre afin d’éviter que de telles tragédies ne se reproduisent. \nAprès la libération des camps par les forces alliées en 1945\, la communauté internationale a été confrontée à l’horreur des crimes perpétrés dans les camps de concentration. Ces lieux étaient le reflet le plus extrême de l’idéologie nazie\, où des milliers de résistants\, opposants politiques\, civils innocents\, ainsi que des juifs et des tziganes\, furent persécutés et exterminés. \nLes atrocités commises ont conduit la communauté internationale à créer de nouveaux termes pour les qualifier\, qualifiant ces actes de « crimes contre l’humanité ». Malgré la libération des camps\, de nombreux déportés ont succombé à l’épuisement physique et mental. Le retour à la vie normale pour les survivants a été difficile\, nécessitant d’énormes efforts de rapatriement et de réadaptation. \nEn Haute-Savoie\, par exemple\, 1233 personnes ont été déportées dans des camps entre août 1942 et juin 1944\, dont la moitié n’est jamais revenue. Des monuments et des sites commémoratifs\, tels que le monument en mémoire des victimes de crimes racistes et antisémites à Annecy\, rappellent l’importance de ne jamais oublier les souffrances endurées par les déportés et de perpétuer leur mémoire pour les générations futures. \nEn savoir plus sur : https://www.haute-savoie.gouv.fr/Actualites/Memoire/Journee-nationale-du-souvenir-des-victimes-de-la-deportation \n 
URL:https://www.fndirp74.org/calendrier/journee-du-souvenir-des-victimes-de-la-deportation-le-28-avril/
END:VEVENT
BEGIN:VEVENT
DTSTART;VALUE=DATE:20240428
DTEND;VALUE=DATE:20240429
DTSTAMP:20260425T201616
CREATED:20240502T132917Z
LAST-MODIFIED:20240503T070337Z
UID:30098-1714262400-1714348799@www.fndirp74.org
SUMMARY:Journée nationale des victimes et des héros de la déportation\, 79ème anniversaire
DESCRIPTION:La journée nationale des victimes et héros de la déportation a été commémorée dans de nombreuses municipalités de notre département. \nUn message a été rédigé conjointement par les différentes associations de mémoire de la déportation et peut être consultable sur le site de la FNDIRP : \nhttps://fndirp.org/2024/04/22/message-pour-la-journee-nationale-du-souvenir-des-victimes-et-heros-de-la-deportation/ \n  \nEn savoir plus sur : \nhttps://www.haute-savoie.gouv.fr/Actualites/Memoire/Journee-nationale-du-souvenir-des-victimes-de-la-deportation \nhttps://www.reignier-esery.com/agenda/journee-nationale-du-souvenir-des-victimes-de-la-deportation/
URL:https://www.fndirp74.org/calendrier/journee-nationale-des-victimes-et-des-heros-de-la-deportation79eme-anniversaire/
END:VEVENT
END:VCALENDAR