BEGIN:VCALENDAR
VERSION:2.0
PRODID:-//FNDIRP - ADIRP74 - ECPv6.15.20//NONSGML v1.0//EN
CALSCALE:GREGORIAN
METHOD:PUBLISH
X-ORIGINAL-URL:https://www.fndirp74.org
X-WR-CALDESC:Évènements pour FNDIRP - ADIRP74
REFRESH-INTERVAL;VALUE=DURATION:PT1H
X-Robots-Tag:noindex
X-PUBLISHED-TTL:PT1H
BEGIN:VTIMEZONE
TZID:Europe/Paris
BEGIN:DAYLIGHT
TZOFFSETFROM:+0100
TZOFFSETTO:+0200
TZNAME:CEST
DTSTART:20220327T010000
END:DAYLIGHT
BEGIN:STANDARD
TZOFFSETFROM:+0200
TZOFFSETTO:+0100
TZNAME:CET
DTSTART:20221030T010000
END:STANDARD
BEGIN:DAYLIGHT
TZOFFSETFROM:+0100
TZOFFSETTO:+0200
TZNAME:CEST
DTSTART:20230326T010000
END:DAYLIGHT
BEGIN:STANDARD
TZOFFSETFROM:+0200
TZOFFSETTO:+0100
TZNAME:CET
DTSTART:20231029T010000
END:STANDARD
BEGIN:DAYLIGHT
TZOFFSETFROM:+0100
TZOFFSETTO:+0200
TZNAME:CEST
DTSTART:20240331T010000
END:DAYLIGHT
BEGIN:STANDARD
TZOFFSETFROM:+0200
TZOFFSETTO:+0100
TZNAME:CET
DTSTART:20241027T010000
END:STANDARD
END:VTIMEZONE
BEGIN:VEVENT
DTSTART;VALUE=DATE:20231220
DTEND;VALUE=DATE:20231221
DTSTAMP:20260426T020347
CREATED:20240312T175859Z
LAST-MODIFIED:20240312T175859Z
UID:29818-1703030400-1703116799@www.fndirp74.org
SUMMARY:Commémoration du 80ème Anniversaire du Massacre d'Habère-Lullin
DESCRIPTION:Date  : 20 décembre 2023 \nContexte historique : Le 25 décembre 1943\, la commune d’Habère-Lullin fut le théâtre d’un événement tragique connu sous le nom du massacre du Château. Cette nuit de terreur a vu des vies fauchées et des destins brisés sous les balles des forces d’occupation allemandes et de la Gestapo\, marquant profondément l’histoire locale. \nDescription de l’événement : Malgré l’interdiction des rassemblements par l’occupant allemand\, un groupe de jeunes réfractaires au Service du Travail Obligatoire (STO) a organisé un bal le 24 décembre. La fête fut brutalement interrompue par une fusillade orchestrée par des policiers allemands et un dénonciateur de la Gestapo\, entraînant un bilan tragique de 25 victimes. \nCérémonie de commémoration : Le 80ème anniversaire a été marqué par une cérémonie présidée par M. Yves Lebreton\, Préfet de la Haute-Savoie\, avec la participation de nombreux dignitaires\, élus locaux\, les élèves de la commune et la FNDIRP\, rendant un hommage national aux victimes. \nExposition mémorielle : À l’occasion de cette commémoration\, des panneaux de l’exposition « Lieux de Mémoire – L’univers concentrationnaire nazi » ont été exposés à la bibliothèque municipale\, rappelant la brutalité des camps nazis et honorant la mémoire des victimes.
URL:https://www.fndirp74.org/calendrier/commemoration-du-80eme-anniversaire-du-massacre-dhabere-lullin/
END:VEVENT
BEGIN:VEVENT
DTSTART;VALUE=DATE:20231231
DTEND;VALUE=DATE:20240101
DTSTAMP:20260426T020347
CREATED:20240312T175554Z
LAST-MODIFIED:20240312T175554Z
UID:29816-1703980800-1704067199@www.fndirp74.org
SUMMARY:Commémoration du 80ème Anniversaire de la Rafle du 31 Décembre 1943 à Saint-Eustache
DESCRIPTION:Date de commémoration : 31 décembre 2023 \nOrganisateurs : \n\nFNDRIP74 (Rédaction et mise en ligne de l’article)\nAssociations patriotiques\nPréfet\, élus locaux\n\nDescription : Cette commémoration marquait le 80ème anniversaire de la rafle allemande à Saint-Eustache\, où 24 hommes furent emmenés vers les camps de déportation en représailles à des actions de résistance. Le village avait été encerclé et pillé par les Allemands. La cérémonie a rendu hommage à la mémoire collective des victimes\, laissant derrière eux 33 orphelins et 9 veuves\, et a célébré la survie de sept rescapés\, malgré les séquelles physiques et psychologiques profondes. \nÉvénements Clés : \n\nRassemblement du village : Un élan de mémoire collective autour du Préfet\, des élus\, et des associations patriotiques.\nDiscours de Souvenir et d’Engagement : Interventions par Gérard Garin et Gérard Métral sur la résistance et l’importance de la mémoire\, ainsi qu’un remerciement par Jean-Pascal Albran\, maire de St Eustache\, aux familles pour la transmission des valeurs.\nLes Honneurs et le Souvenir : Soulignements par le Préfet Yves Le Breton et dépôt de gerbe par Jocelyne Martinet et Michelle Amprino de la FNDIRP-ADIRP 74.\nExposition Mémorielle : Présentation de photos « Lieux de mémoire- l’Univers concentrationnaire nazi » de Lucien Colonel\, survivant des camps de Buchenwald\, Dora\, et Osteraghen.\n\nLieu : Saint-Eustache et la mairie de Saint-Eustache pour l’exposition. \n 
URL:https://www.fndirp74.org/calendrier/commemoration-du-80eme-anniversaire-de-la-rafle-du-31-decembre-1943-a-saint-eustache/
END:VEVENT
END:VCALENDAR